BEGIN:VCALENDAR
VERSION:2.0
PRODID:-//KEPS - ECPv6.15.20//NONSGML v1.0//EN
CALSCALE:GREGORIAN
METHOD:PUBLISH
X-WR-CALNAME:KEPS
X-ORIGINAL-URL:http://keps.org.kw/ar
X-WR-CALDESC:Events for KEPS
REFRESH-INTERVAL;VALUE=DURATION:PT1H
X-Robots-Tag:noindex
X-PUBLISHED-TTL:PT1H
BEGIN:VTIMEZONE
TZID:Asia/Kuwait
BEGIN:STANDARD
TZOFFSETFROM:+0300
TZOFFSETTO:+0300
TZNAME:+03
DTSTART:20150101T000000
END:STANDARD
END:VTIMEZONE
BEGIN:VEVENT
DTSTART;TZID=Asia/Kuwait:20250822T080000
DTEND;TZID=Asia/Kuwait:20250822T170000
DTSTAMP:20260425T030134
CREATED:20250814T095126Z
LAST-MODIFIED:20250814T095126Z
UID:3411-1755849600-1755882000@keps.org.kw
SUMMARY:Test Event
DESCRIPTION:testing event \nPlease enable JavaScript in your browser to complete this form.Please enable JavaScript in your browser to complete this form.		\n			البريد المدني الجنسية\n			\n		\n		\n				المعلومات الشخصية\n			الاسم الكامل *FirstLastالرقم المدني *البريد الإلكتروني *اللقب *--- Select Choice ---د. (دكتور/دكتورة)م. (مهندس/مهندسة)أ.د. (أستاذ دكتور)أ. (أستاذ/أستاذة)أ.م.د. (أستاذ مساعد دكتور)باحث / باحثةطالب / طالبةأديب / أديبةكاتب / كاتبةناشط / ناشطةبدون لقبالجنسية *KuwaitAfghanistanAlbaniaAlgeriaAmerican SamoaAndorraAngolaAnguillaAntarcticaAntigua and BarbudaArgentinaArmeniaArubaAustraliaAustriaAzerbaijanBahamasBahrainBangladeshBarbadosBelarusBelgiumBelizeBeninBermudaBhutanBolivia (Plurinational State of)Bonaire\, Saint Eustatius and SabaBosnia and HerzegovinaBotswanaBouvet IslandBrazilBritish Indian Ocean TerritoryBrunei DarussalamBulgariaBurkina FasoBurundiCabo VerdeCambodiaCameroonCanadaCayman IslandsCentral African RepublicChadChileChinaChristmas IslandCocos (Keeling) IslandsColombiaComorosCongoCongo (Democratic Republic of the)Cook IslandsCosta RicaCroatiaCubaCuraçaoCyprusCzech RepublicCôte d'IvoireDenmarkDjiboutiDominicaDominican RepublicEcuadorEgyptEl SalvadorEquatorial GuineaEritreaEstoniaEswatini (Kingdom of)EthiopiaFalkland Islands (Malvinas)Faroe IslandsFijiFinlandFranceFrench GuianaFrench PolynesiaFrench Southern TerritoriesGabonGambiaGeorgiaGermanyGhanaGibraltarGreeceGreenlandGrenadaGuadeloupeGuamGuatemalaGuernseyGuineaGuinea-BissauGuyanaHaitiHeard Island and McDonald IslandsHondurasHong KongHungaryIcelandIndiaIndonesiaIran (Islamic Republic of)IraqIreland (Republic of)Isle of ManItalyJamaicaJapanJerseyJordanKazakhstanKenyaKiribatiKorea (Democratic People's Republic of)Korea (Republic of)KosovoKuwaitKyrgyzstanLao People's Democratic RepublicLatviaLebanonLesothoLiberiaLibyaLiechtensteinLithuaniaLuxembourgMacaoMadagascarMalawiMalaysiaMaldivesMaliMaltaMarshall IslandsMartiniqueMauritaniaMauritiusMayotteMexicoMicronesia (Federated States of)Moldova (Republic of)MonacoMongoliaMontenegroMontserratMoroccoMozambiqueMyanmarNamibiaNauruNepalNetherlandsNew CaledoniaNew ZealandNicaraguaNigerNigeriaNiueNorfolk IslandNorth Macedonia (Republic of)Northern Mariana IslandsNorwayOmanPakistanPalauPalestine (State of)PanamaPapua New GuineaParaguayPeruPhilippinesPitcairnPolandPortugalPuerto RicoQatarRomaniaRussian FederationRwandaRéunionSaint BarthélemySaint Helena\, Ascension and Tristan da CunhaSaint Kitts and NevisSaint LuciaSaint Martin (French part)Saint Pierre and MiquelonSaint Vincent and the GrenadinesSamoaSan MarinoSao Tome and PrincipeSaudi ArabiaSenegalSerbiaSeychellesSierra LeoneSingaporeSint Maarten (Dutch part)SlovakiaSloveniaSolomon IslandsSomaliaSouth AfricaSouth Georgia and the South Sandwich IslandsSouth SudanSpainSri LankaSudanSurinameSvalbard and Jan MayenSwedenSwitzerlandSyrian Arab RepublicTaiwan\, Republic of ChinaTajikistanTanzania (United Republic of)ThailandTimor-LesteTogoTokelauTongaTrinidad and TobagoTunisiaTurkmenistanTurks and Caicos IslandsTuvaluTürkiyeUgandaUkraineUnited Arab EmiratesUnited Kingdom of Great Britain and Northern IrelandUnited States Minor Outlying IslandsUnited States of AmericaUruguayUzbekistanVanuatuVatican City StateVenezuela (Bolivarian Republic of)VietnamVirgin Islands (British)Virgin Islands (U.S.)Wallis and FutunaWestern SaharaYemenZambiaZimbabweÅland Islandsرقم الهاتف المحمول *تقديم
URL:http://keps.org.kw/ar/events/test-event
END:VEVENT
BEGIN:VEVENT
DTSTART;TZID=Asia/Kuwait:20250815T201800
DTEND;TZID=Asia/Kuwait:20250815T202000
DTSTAMP:20260425T030134
CREATED:20250815T162556Z
LAST-MODIFIED:20250815T174633Z
UID:3635-1755289080-1755289200@keps.org.kw
SUMMARY:Testing
DESCRIPTION:this is a test\nThis registration is for KEPS members only\, please login or use the visitor's registration!\n[wpforms id="3413"]
URL:http://keps.org.kw/ar/events/testing
LOCATION:الهيئة العامة للبيئة\, Kuwait
ORGANIZER;CN="Kuwait Environment Protection Society":MAILTO:info@keps.org.kw
END:VEVENT
BEGIN:VEVENT
DTSTART;TZID=Asia/Kuwait:20190710T080000
DTEND;TZID=Asia/Kuwait:20190710T140000
DTSTAMP:20260425T030134
CREATED:20250814T072129Z
LAST-MODIFIED:20250814T082233Z
UID:3372-1562745600-1562767200@keps.org.kw
SUMMARY:Beach Cleanup 2019
DESCRIPTION:تنظيف الشاطئ لمهمة حماية السلاحف \nإذا لم تكن عضوًا في KEPS، يُرجى استخدام نموذج التسجيل أدناه \nPlease enable JavaScript in your browser to complete this form.Please enable JavaScript in your browser to complete this form.		\n			الكامل اللقب البريد\n			\n		\n		\n				المعلومات الشخصية\n			الاسم الكامل *FirstLastالرقم المدني *البريد الإلكتروني *اللقب *--- Select Choice ---د. (دكتور/دكتورة)م. (مهندس/مهندسة)أ.د. (أستاذ دكتور)أ. (أستاذ/أستاذة)أ.م.د. (أستاذ مساعد دكتور)باحث / باحثةطالب / طالبةأديب / أديبةكاتب / كاتبةناشط / ناشطةبدون لقبالجنسية *KuwaitAfghanistanAlbaniaAlgeriaAmerican SamoaAndorraAngolaAnguillaAntarcticaAntigua and BarbudaArgentinaArmeniaArubaAustraliaAustriaAzerbaijanBahamasBahrainBangladeshBarbadosBelarusBelgiumBelizeBeninBermudaBhutanBolivia (Plurinational State of)Bonaire\, Saint Eustatius and SabaBosnia and HerzegovinaBotswanaBouvet IslandBrazilBritish Indian Ocean TerritoryBrunei DarussalamBulgariaBurkina FasoBurundiCabo VerdeCambodiaCameroonCanadaCayman IslandsCentral African RepublicChadChileChinaChristmas IslandCocos (Keeling) IslandsColombiaComorosCongoCongo (Democratic Republic of the)Cook IslandsCosta RicaCroatiaCubaCuraçaoCyprusCzech RepublicCôte d'IvoireDenmarkDjiboutiDominicaDominican RepublicEcuadorEgyptEl SalvadorEquatorial GuineaEritreaEstoniaEswatini (Kingdom of)EthiopiaFalkland Islands (Malvinas)Faroe IslandsFijiFinlandFranceFrench GuianaFrench PolynesiaFrench Southern TerritoriesGabonGambiaGeorgiaGermanyGhanaGibraltarGreeceGreenlandGrenadaGuadeloupeGuamGuatemalaGuernseyGuineaGuinea-BissauGuyanaHaitiHeard Island and McDonald IslandsHondurasHong KongHungaryIcelandIndiaIndonesiaIran (Islamic Republic of)IraqIreland (Republic of)Isle of ManItalyJamaicaJapanJerseyJordanKazakhstanKenyaKiribatiKorea (Democratic People's Republic of)Korea (Republic of)KosovoKuwaitKyrgyzstanLao People's Democratic RepublicLatviaLebanonLesothoLiberiaLibyaLiechtensteinLithuaniaLuxembourgMacaoMadagascarMalawiMalaysiaMaldivesMaliMaltaMarshall IslandsMartiniqueMauritaniaMauritiusMayotteMexicoMicronesia (Federated States of)Moldova (Republic of)MonacoMongoliaMontenegroMontserratMoroccoMozambiqueMyanmarNamibiaNauruNepalNetherlandsNew CaledoniaNew ZealandNicaraguaNigerNigeriaNiueNorfolk IslandNorth Macedonia (Republic of)Northern Mariana IslandsNorwayOmanPakistanPalauPalestine (State of)PanamaPapua New GuineaParaguayPeruPhilippinesPitcairnPolandPortugalPuerto RicoQatarRomaniaRussian FederationRwandaRéunionSaint BarthélemySaint Helena\, Ascension and Tristan da CunhaSaint Kitts and NevisSaint LuciaSaint Martin (French part)Saint Pierre and MiquelonSaint Vincent and the GrenadinesSamoaSan MarinoSao Tome and PrincipeSaudi ArabiaSenegalSerbiaSeychellesSierra LeoneSingaporeSint Maarten (Dutch part)SlovakiaSloveniaSolomon IslandsSomaliaSouth AfricaSouth Georgia and the South Sandwich IslandsSouth SudanSpainSri LankaSudanSurinameSvalbard and Jan MayenSwedenSwitzerlandSyrian Arab RepublicTaiwan\, Republic of ChinaTajikistanTanzania (United Republic of)ThailandTimor-LesteTogoTokelauTongaTrinidad and TobagoTunisiaTurkmenistanTurks and Caicos IslandsTuvaluTürkiyeUgandaUkraineUnited Arab EmiratesUnited Kingdom of Great Britain and Northern IrelandUnited States Minor Outlying IslandsUnited States of AmericaUruguayUzbekistanVanuatuVatican City StateVenezuela (Bolivarian Republic of)VietnamVirgin Islands (British)Virgin Islands (U.S.)Wallis and FutunaWestern SaharaYemenZambiaZimbabweÅland Islandsرقم الهاتف المحمول *تقديم
URL:http://keps.org.kw/ar/events/beach-cleanup-2019
ORGANIZER;CN="Kuwait Environment Protection Society":MAILTO:info@keps.org.kw
END:VEVENT
BEGIN:VEVENT
DTSTART;VALUE=DATE:20181125
DTEND;VALUE=DATE:20181128
DTSTAMP:20260425T030134
CREATED:20181221T084347Z
LAST-MODIFIED:20181221T084945Z
UID:587-1543104000-1543363199@keps.org.kw
SUMMARY:أسبوع الطاقة الذكية وأدوات وأساليب تخطيط الطاقة المحلية المستدامة للمدن العربية
DESCRIPTION:البرنامج التدريبي لأسبوع الطاقة الذكية وأدوات وأساليب تخطيط الطاقة المحلية المستدامة للمدن العربية\nجدول الاعمال لأسبوع الطاقة الذكية وأدوات وأساليب تخطيط الطاقة المحلية المستدامة للمدن العربية\nالتسجيل في البرنامج التدريبي
URL:http://keps.org.kw/ar/events/%d8%a3%d8%b3%d8%a8%d9%88%d8%b9-%d8%a7%d9%84%d8%b7%d8%a7%d9%82%d8%a9-%d8%a7%d9%84%d8%b0%d9%83%d9%8a%d8%a9-%d9%88%d8%a3%d8%af%d9%88%d8%a7%d8%aa-%d9%88%d8%a3%d8%b3%d8%a7%d9%84%d9%8a%d8%a8-%d8%aa%d8%ae
ATTACH;FMTTYPE=image/jpeg:https://keps.org.kw/wp-content/uploads/2018/12/SmartPower.jpg
END:VEVENT
BEGIN:VEVENT
DTSTART;TZID=Asia/Kuwait:20160130T100000
DTEND;TZID=Asia/Kuwait:20160130T120000
DTSTAMP:20260425T030134
CREATED:20181220T221028Z
LAST-MODIFIED:20250731T171934Z
UID:580-1454148000-1454155200@keps.org.kw
SUMMARY:فعالية عد الطيور
DESCRIPTION:تنظم الجمعية الكويتية لحماية البيئة فعالية عد الطيور وذلك بجوار المقهى الشعبي بشاطئ الصليبخات في تمام الساعة الواحدة من ظهر يوم السبت المقبل الموافق 30/1/2016. وتدعوكم الجمعية للانضمام للنخبة الوطنية من أعضاء فريق رصد وحماية الطيور والمختصين اعضائها للمشاركة في هذه الفعالية السنوية.
URL:http://keps.org.kw/ar/events/%d8%b9%d8%af-%d8%a7%d9%84%d8%b7%d9%8a%d9%88%d8%b1
ATTACH;FMTTYPE=image/jpeg:https://keps.org.kw/wp-content/uploads/2018/12/Qarookh232.jpg
END:VEVENT
END:VCALENDAR